BEGIN:VCALENDAR
VERSION:2.0
PRODID:SchoolNow
CALSCALE:GREGORIAN
BEGIN:VEVENT
UID:eb617724-288c-11ed-ae42-02d3afc341a9
DTSTAMP:20230623T235520Z
SUMMARY:PTA Association Meeting and Spring Brunch
LOCATION:South High School PAC
URL;VALUE=URI:https://www.tusd.org/district/calendar/3317883/pta-associatio
 n-meeting-and-spring-brunch
DTSTART;VALUE=DATE:20230607
DTEND;VALUE=DATE:20230608
END:VEVENT
END:VCALENDAR
