BEGIN:VCALENDAR
VERSION:2.0
PRODID:SchoolNow
CALSCALE:GREGORIAN
BEGIN:VEVENT
UID:eb6123fa-288c-11ed-9fa9-02d3afc341a9
DTSTAMP:20230623T235520Z
SUMMARY:South Bay Regional Invention Convention
LOCATION:TBD
URL;VALUE=URI:https://www.tusd.org/district/calendar/3317879/south-bay-regi
 onal-invention-convention
DTSTART:20230325T000000Z
DTEND:20230325T010000Z
END:VEVENT
END:VCALENDAR
