BEGIN:VCALENDAR
VERSION:2.0
PRODID:SchoolNow
CALSCALE:GREGORIAN
BEGIN:VEVENT
UID:eb6110b8-288c-11ed-ab08-02d3afc341a9
DTSTAMP:20230623T235520Z
SUMMARY:Spring Break ends
URL;VALUE=URI:https://www.tusd.org/district/calendar/3317878/spring-break-e
 nds
DTSTART;VALUE=DATE:20230407
DTEND;VALUE=DATE:20230408
END:VEVENT
END:VCALENDAR
