BEGIN:VCALENDAR
VERSION:2.0
PRODID:SchoolNow
CALSCALE:GREGORIAN
BEGIN:VEVENT
UID:eb60fd80-288c-11ed-a0e4-02d3afc341a9
DTSTAMP:20230623T235520Z
SUMMARY:Spring Break starts
LOCATION:Schools are Closed. District Office is Open.
URL;VALUE=URI:https://www.tusd.org/district/calendar/3317877/spring-break-s
 tarts
DTSTART;VALUE=DATE:20230403
DTEND;VALUE=DATE:20230404
END:VEVENT
END:VCALENDAR
