BEGIN:VCALENDAR
VERSION:2.0
PRODID:SchoolNow
CALSCALE:GREGORIAN
BEGIN:VEVENT
UID:eb60ea70-288c-11ed-a0fc-02d3afc341a9
DTSTAMP:20230623T235520Z
SUMMARY:Spring Term Ends - Adult Education
URL;VALUE=URI:https://www.tusd.org/district/calendar/3317876/spring-term-en
 ds-adult-education
DTSTART;VALUE=DATE:20230602
DTEND;VALUE=DATE:20230603
END:VEVENT
END:VCALENDAR
