BEGIN:VCALENDAR
VERSION:2.0
PRODID:SchoolNow
CALSCALE:GREGORIAN
BEGIN:VEVENT
UID:eb60d738-288c-11ed-bee7-02d3afc341a9
DTSTAMP:20230623T235520Z
SUMMARY:Spring Term Starts - Adult Education
URL;VALUE=URI:https://www.tusd.org/district/calendar/3317875/spring-term-st
 arts-adult-education
DTSTART;VALUE=DATE:20230320
DTEND;VALUE=DATE:20230321
END:VEVENT
END:VCALENDAR
