BEGIN:VCALENDAR
VERSION:2.0
PRODID:SchoolNow
CALSCALE:GREGORIAN
BEGIN:VEVENT
UID:eb60ae7a-288c-11ed-8ef1-02d3afc341a9
DTSTAMP:20230623T235520Z
SUMMARY:Student Free Day/Staff Development
URL;VALUE=URI:https://www.tusd.org/district/calendar/3317873/student-free-d
 ay-staff-development
DTSTART;VALUE=DATE:20230316
DTEND;VALUE=DATE:20230317
END:VEVENT
END:VCALENDAR
