BEGIN:VCALENDAR
VERSION:2.0
PRODID:SchoolNow
CALSCALE:GREGORIAN
BEGIN:VEVENT
UID:eb606f0a-288c-11ed-ac79-02d3afc341a9
DTSTAMP:20230623T235520Z
SUMMARY:Torrance Council of PTAs Bike Rodeo
LOCATION:TBD
URL;VALUE=URI:https://www.tusd.org/district/calendar/3317870/torrance-counc
 il-of-ptas-bike-rodeo
DTSTART;VALUE=DATE:20230506
DTEND;VALUE=DATE:20230507
END:VEVENT
END:VCALENDAR
