BEGIN:VCALENDAR
VERSION:2.0
PRODID:SchoolNow
CALSCALE:GREGORIAN
BEGIN:VEVENT
UID:eb605b96-288c-11ed-b35f-02d3afc341a9
DTSTAMP:20230623T235520Z
SUMMARY:Torrance Council of PTAs College & Career Fair
LOCATION:West High School
URL;VALUE=URI:https://www.tusd.org/district/calendar/3317869/torrance-counc
 il-of-ptas-college-career-fair
DTSTART;VALUE=DATE:20230225
DTEND;VALUE=DATE:20230226
END:VEVENT
END:VCALENDAR
