BEGIN:VCALENDAR
VERSION:2.0
PRODID:SchoolNow
CALSCALE:GREGORIAN
BEGIN:VEVENT
UID:eb604872-288c-11ed-961a-02d3afc341a9
DTSTAMP:20230623T235520Z
SUMMARY:Torrance Education Foundation Fundraiser
LOCATION:TBD
URL;VALUE=URI:https://www.tusd.org/district/calendar/3317868/torrance-educa
 tion-foundation-fundraiser
DTSTART;VALUE=DATE:20230421
DTEND;VALUE=DATE:20230422
END:VEVENT
END:VCALENDAR
