BEGIN:VCALENDAR
VERSION:2.0
PRODID:SchoolNow
CALSCALE:GREGORIAN
BEGIN:VEVENT
UID:eb603472-288c-11ed-a506-02d3afc341a9
DTSTAMP:20230623T235520Z
SUMMARY:Winter Term Ends - Adult Education
URL;VALUE=URI:https://www.tusd.org/district/calendar/3317867/winter-term-en
 ds-adult-education
DTSTART;VALUE=DATE:20230316
DTEND;VALUE=DATE:20230317
END:VEVENT
END:VCALENDAR
