BEGIN:VCALENDAR
VERSION:2.0
PRODID:SchoolNow
CALSCALE:GREGORIAN
BEGIN:VEVENT
UID:96b7170a-f89a-11ec-afd0-02124454fbeb
DTSTAMP:20230623T235520Z
SUMMARY:Board of Education Meeting
LOCATION:Torrance Unified School District\, 2335 Plaza del Amo\, Torrance\,
  CA 90501\, USA
URL;VALUE=URI:https://www.tusd.org/district/calendar/3235128/board-of-educa
 tion-meeting
DTSTART:20230418T020000Z
DTEND:20230418T050000Z
END:VEVENT
END:VCALENDAR
