BEGIN:VCALENDAR
VERSION:2.0
PRODID:SchoolNow
CALSCALE:GREGORIAN
BEGIN:VEVENT
UID:96b6726e-f89a-11ec-8218-02124454fbeb
DTSTAMP:20230623T235520Z
SUMMARY:Board of Education Meeting
LOCATION:Torrance Unified School District\, 2335 Plaza del Amo\, Torrance\,
  CA 90501\, USA
URL;VALUE=URI:https://www.tusd.org/district/calendar/3235120/board-of-educa
 tion-meeting
DTSTART:20230307T030000Z
DTEND:20230307T060000Z
END:VEVENT
END:VCALENDAR
