BEGIN:VCALENDAR
VERSION:2.0
PRODID:SchoolNow
CALSCALE:GREGORIAN
BEGIN:VEVENT
UID:96b5b504-f89a-11ec-8de8-02124454fbeb
DTSTAMP:20230623T235520Z
SUMMARY:Memorial Day
URL;VALUE=URI:https://www.tusd.org/district/calendar/3235111/memorial-day
DTSTART;VALUE=DATE:20230529
DTEND;VALUE=DATE:20230530
END:VEVENT
END:VCALENDAR
