BEGIN:VCALENDAR
VERSION:2.0
PRODID:SchoolNow
CALSCALE:GREGORIAN
BEGIN:VEVENT
UID:733c7bce-57ed-11ec-8d81-02b90aea0a57
DTSTAMP:20211208T060949Z
SUMMARY:Winter Recess
URL;VALUE=URI:https://www.tusd.org/district/calendar/2939013/winter-recess
DTSTART;VALUE=DATE:20211220
DTEND;VALUE=DATE:20220101
END:VEVENT
END:VCALENDAR
